Package: CNVRanger Version: 1.22.0 Command: /home/biocbuild/bbs-3.20-bioc/R/bin/R CMD check --install=check:CNVRanger.install-out.txt --library=/home/biocbuild/bbs-3.20-bioc/R/site-library --timings CNVRanger_1.22.0.tar.gz StartedAt: 2025-02-03 21:09:23 -0500 (Mon, 03 Feb 2025) EndedAt: 2025-02-03 21:16:04 -0500 (Mon, 03 Feb 2025) EllapsedTime: 401.4 seconds RetCode: 0 Status: OK CheckDir: CNVRanger.Rcheck Warnings: 0