Package: CNVRanger Version: 1.22.0 Command: /home/biocbuild/R/R/bin/R CMD INSTALL CNVRanger StartedAt: 2025-01-30 20:21:42 -0000 (Thu, 30 Jan 2025) EndedAt: 2025-01-30 20:22:08 -0000 (Thu, 30 Jan 2025) EllapsedTime: 26.8 seconds RetCode: 0 Status: OK