Package: CNVrd2 Version: 1.44.0 Command: /Library/Frameworks/R.framework/Resources/bin/R CMD build --keep-empty-dirs --no-resave-data CNVrd2 StartedAt: 2025-02-03 21:05:31 -0500 (Mon, 03 Feb 2025) EndedAt: 2025-02-03 21:07:08 -0500 (Mon, 03 Feb 2025) EllapsedTime: 96.5 seconds RetCode: 0 Status: OK PackageFile: CNVrd2_1.44.0.tar.gz PackageFileSize: 2.826 MiB