Package: CNVrd2 Version: 1.44.0 Command: /Library/Frameworks/R.framework/Resources/bin/R CMD INSTALL CNVrd2 StartedAt: 2025-02-03 16:03:07 -0500 (Mon, 03 Feb 2025) EndedAt: 2025-02-03 16:03:55 -0500 (Mon, 03 Feb 2025) EllapsedTime: 48.1 seconds RetCode: 0 Status: OK