Package: CNVrd2 Version: 1.44.0 Command: rm -rf CNVrd2.buildbin-libdir && mkdir CNVrd2.buildbin-libdir && /Users/biocbuild/BBS/utils/build-universal.sh CNVrd2_1.44.0.tar.gz /Library/Frameworks/R.framework/Resources/bin/R CNVrd2.buildbin-libdir StartedAt: 2025-02-04 12:41:51 -0500 (Tue, 04 Feb 2025) EndedAt: 2025-02-04 12:43:17 -0500 (Tue, 04 Feb 2025) EllapsedTime: 86.4 seconds RetCode: 0 Status: OK PackageFile: CNVrd2_1.44.0.tgz PackageFileSize: 2.922 MiB