Package: CNVrd2 Version: 1.44.0 Command: /Library/Frameworks/R.framework/Resources/bin/R CMD check --install=check:CNVrd2.install-out.txt --library=/Library/Frameworks/R.framework/Resources/library --no-vignettes --timings CNVrd2_1.44.0.tar.gz StartedAt: 2025-02-04 01:32:13 -0500 (Tue, 04 Feb 2025) EndedAt: 2025-02-04 01:39:12 -0500 (Tue, 04 Feb 2025) EllapsedTime: 419.6 seconds RetCode: 0 Status: OK CheckDir: CNVrd2.Rcheck Warnings: 0