Package: COCOA Version: 2.20.0 Command: /Library/Frameworks/R.framework/Resources/bin/R CMD build --keep-empty-dirs --no-resave-data COCOA StartedAt: 2025-02-03 21:06:39 -0500 (Mon, 03 Feb 2025) EndedAt: 2025-02-03 21:08:51 -0500 (Mon, 03 Feb 2025) EllapsedTime: 132.8 seconds RetCode: 0 Status: OK PackageFile: COCOA_2.20.0.tar.gz PackageFileSize: 3.457 MiB