Package: COCOA Version: 2.20.0 Command: /Library/Frameworks/R.framework/Resources/bin/R CMD INSTALL COCOA StartedAt: 2025-02-10 16:24:33 -0500 (Mon, 10 Feb 2025) EndedAt: 2025-02-10 16:25:58 -0500 (Mon, 10 Feb 2025) EllapsedTime: 85.2 seconds RetCode: 0 Status: OK