Package: COCOA Version: 2.20.0 Command: /home/biocbuild/bbs-3.20-bioc/R/bin/R CMD build --keep-empty-dirs --no-resave-data --md5 COCOA StartedAt: 2025-02-10 16:47:29 -0500 (Mon, 10 Feb 2025) EndedAt: 2025-02-10 16:49:06 -0500 (Mon, 10 Feb 2025) EllapsedTime: 97.1 seconds RetCode: 0 Status: OK PackageFile: COCOA_2.20.0.tar.gz PackageFileSize: 3.793 MiB