Package: COCOA Version: 2.20.0 Command: /home/biocbuild/bbs-3.20-bioc/R/bin/R CMD check --install=check:COCOA.install-out.txt --library=/home/biocbuild/bbs-3.20-bioc/R/site-library --timings COCOA_2.20.0.tar.gz StartedAt: 2025-02-03 21:09:48 -0500 (Mon, 03 Feb 2025) EndedAt: 2025-02-03 21:15:59 -0500 (Mon, 03 Feb 2025) EllapsedTime: 371.3 seconds RetCode: 0 Status: OK CheckDir: COCOA.Rcheck Warnings: 0