Package: COCOA Version: 2.20.0 Command: chmod a+r COCOA -R && F:\biocbuild\bbs-3.20-bioc\R\bin\R.exe CMD build --keep-empty-dirs --no-resave-data COCOA StartedAt: 2025-02-03 18:15:33 -0500 (Mon, 03 Feb 2025) EndedAt: 2025-02-03 18:18:27 -0500 (Mon, 03 Feb 2025) EllapsedTime: 174.6 seconds RetCode: 0 Status: OK PackageFile: COCOA_2.20.0.tar.gz PackageFileSize: 2.675 MiB