Package: COCOA Version: 2.20.0 Command: F:\biocbuild\bbs-3.20-bioc\R\bin\R.exe CMD check --no-multiarch --install=check:COCOA.install-out.txt --library=F:\biocbuild\bbs-3.20-bioc\R\library --no-vignettes --timings COCOA_2.20.0.tar.gz StartedAt: 2025-02-04 00:28:46 -0500 (Tue, 04 Feb 2025) EndedAt: 2025-02-04 00:35:08 -0500 (Tue, 04 Feb 2025) EllapsedTime: 381.3 seconds RetCode: 0 Status: OK CheckDir: COCOA.Rcheck Warnings: 0