Package: COCOA Version: 2.20.0 Command: /home/biocbuild/R/R/bin/R CMD build --keep-empty-dirs --no-resave-data COCOA StartedAt: 2025-02-10 22:32:42 -0000 (Mon, 10 Feb 2025) EndedAt: 2025-02-10 22:35:22 -0000 (Mon, 10 Feb 2025) EllapsedTime: 160.1 seconds RetCode: 0 Status: OK PackageFile: COCOA_2.20.0.tar.gz PackageFileSize: 2.785 MiB