Package: COCOA Version: 2.20.0 Command: /home/biocbuild/R/R/bin/R CMD check --install=check:COCOA.install-out.txt --library=/home/biocbuild/R/R/site-library --no-vignettes --timings COCOA_2.20.0.tar.gz StartedAt: 2025-02-04 05:48:14 -0000 (Tue, 04 Feb 2025) EndedAt: 2025-02-04 05:54:44 -0000 (Tue, 04 Feb 2025) EllapsedTime: 390.4 seconds RetCode: 0 Status: OK CheckDir: COCOA.Rcheck Warnings: 0