Package: COCOA Version: 2.20.0 Command: /home/biocbuild/R/R/bin/R CMD INSTALL COCOA StartedAt: 2025-02-03 21:13:52 -0000 (Mon, 03 Feb 2025) EndedAt: 2025-02-03 21:14:44 -0000 (Mon, 03 Feb 2025) EllapsedTime: 52.3 seconds RetCode: 0 Status: OK