Package: CODEX Version: 1.38.0 Command: /Library/Frameworks/R.framework/Resources/bin/R CMD build --keep-empty-dirs --no-resave-data CODEX StartedAt: 2025-01-30 21:15:58 -0500 (Thu, 30 Jan 2025) EndedAt: 2025-01-30 21:17:57 -0500 (Thu, 30 Jan 2025) EllapsedTime: 119.8 seconds RetCode: 0 Status: OK PackageFile: CODEX_1.38.0.tar.gz PackageFileSize: 913.2 KiB