Package: CODEX Version: 1.38.0 Command: /Library/Frameworks/R.framework/Resources/bin/R CMD check --install=check:CODEX.install-out.txt --library=/Library/Frameworks/R.framework/Resources/library --no-vignettes --timings CODEX_1.38.0.tar.gz StartedAt: 2025-01-31 15:04:22 -0500 (Fri, 31 Jan 2025) EndedAt: 2025-01-31 15:09:32 -0500 (Fri, 31 Jan 2025) EllapsedTime: 309.1 seconds RetCode: 0 Status: OK CheckDir: CODEX.Rcheck Warnings: 0