Package: CODEX Version: 1.38.0 Command: /Library/Frameworks/R.framework/Resources/bin/R CMD INSTALL CODEX StartedAt: 2025-02-03 15:59:06 -0500 (Mon, 03 Feb 2025) EndedAt: 2025-02-03 15:59:43 -0500 (Mon, 03 Feb 2025) EllapsedTime: 37.4 seconds RetCode: 0 Status: OK