Package: CODEX Version: 1.38.0 Command: /Library/Frameworks/R.framework/Resources/bin/R CMD build --keep-empty-dirs --no-resave-data CODEX StartedAt: 2025-02-03 18:00:20 -0500 (Mon, 03 Feb 2025) EndedAt: 2025-02-03 18:04:45 -0500 (Mon, 03 Feb 2025) EllapsedTime: 265.0 seconds RetCode: 0 Status: OK PackageFile: CODEX_1.38.0.tar.gz PackageFileSize: 913.9 KiB