Package: CODEX Version: 1.38.0 Command: /home/biocbuild/bbs-3.20-bioc/R/bin/R CMD build --keep-empty-dirs --no-resave-data --md5 CODEX StartedAt: 2025-02-03 16:54:47 -0500 (Mon, 03 Feb 2025) EndedAt: 2025-02-03 16:56:29 -0500 (Mon, 03 Feb 2025) EllapsedTime: 102.1 seconds RetCode: 0 Status: OK PackageFile: CODEX_1.38.0.tar.gz PackageFileSize: 916.8 KiB