Package: CODEX Version: 1.38.0 Command: chmod a+r CODEX -R && F:\biocbuild\bbs-3.20-bioc\R\bin\R.exe CMD build --keep-empty-dirs --no-resave-data CODEX StartedAt: 2025-02-03 18:15:42 -0500 (Mon, 03 Feb 2025) EndedAt: 2025-02-03 18:17:55 -0500 (Mon, 03 Feb 2025) EllapsedTime: 133.9 seconds RetCode: 0 Status: OK PackageFile: CODEX_1.38.0.tar.gz PackageFileSize: 824.1 KiB