Package: CODEX Version: 1.38.0 Command: F:\biocbuild\bbs-3.20-bioc\R\bin\R.exe CMD INSTALL CODEX StartedAt: 2025-01-30 16:09:56 -0500 (Thu, 30 Jan 2025) EndedAt: 2025-01-30 16:10:38 -0500 (Thu, 30 Jan 2025) EllapsedTime: 41.5 seconds RetCode: 0 Status: OK