Package: CODEX Version: 1.38.0 Command: /home/biocbuild/R/R/bin/R CMD INSTALL CODEX StartedAt: 2025-01-30 20:27:21 -0000 (Thu, 30 Jan 2025) EndedAt: 2025-01-30 20:27:58 -0000 (Thu, 30 Jan 2025) EllapsedTime: 37.2 seconds RetCode: 0 Status: OK