Package: CONSTANd Version: 1.14.0 Command: /Library/Frameworks/R.framework/Resources/bin/R CMD build --keep-empty-dirs --no-resave-data CONSTANd StartedAt: 2025-01-30 21:29:44 -0500 (Thu, 30 Jan 2025) EndedAt: 2025-01-30 21:29:57 -0500 (Thu, 30 Jan 2025) EllapsedTime: 12.3 seconds RetCode: 0 Status: OK PackageFile: CONSTANd_1.14.0.tar.gz PackageFileSize: 1.696 MiB