Package: CONSTANd Version: 1.14.0 Command: /Library/Frameworks/R.framework/Resources/bin/R CMD check --install=check:CONSTANd.install-out.txt --library=/Library/Frameworks/R.framework/Resources/library --no-vignettes --timings CONSTANd_1.14.0.tar.gz StartedAt: 2025-02-04 15:55:54 -0500 (Tue, 04 Feb 2025) EndedAt: 2025-02-04 15:56:15 -0500 (Tue, 04 Feb 2025) EllapsedTime: 21.3 seconds RetCode: 0 Status: OK CheckDir: CONSTANd.Rcheck Warnings: 0