Package: CONSTANd Version: 1.14.0 Command: /Library/Frameworks/R.framework/Resources/bin/R CMD INSTALL CONSTANd StartedAt: 2025-02-03 15:09:58 -0500 (Mon, 03 Feb 2025) EndedAt: 2025-02-03 15:10:01 -0500 (Mon, 03 Feb 2025) EllapsedTime: 2.9 seconds RetCode: 0 Status: OK