Package: CONSTANd Version: 1.14.0 Command: /Library/Frameworks/R.framework/Resources/bin/R CMD build --keep-empty-dirs --no-resave-data CONSTANd StartedAt: 2025-02-03 18:05:11 -0500 (Mon, 03 Feb 2025) EndedAt: 2025-02-03 18:05:34 -0500 (Mon, 03 Feb 2025) EllapsedTime: 22.3 seconds RetCode: 0 Status: OK PackageFile: CONSTANd_1.14.0.tar.gz PackageFileSize: 1.691 MiB