Package: CONSTANd Version: 1.14.0 Command: F:\biocbuild\bbs-3.20-bioc\R\bin\R.exe CMD check --no-multiarch --install=check:CONSTANd.install-out.txt --library=F:\biocbuild\bbs-3.20-bioc\R\library --no-vignettes --timings CONSTANd_1.14.0.tar.gz StartedAt: 2025-02-04 00:36:20 -0500 (Tue, 04 Feb 2025) EndedAt: 2025-02-04 00:36:45 -0500 (Tue, 04 Feb 2025) EllapsedTime: 25.0 seconds RetCode: 0 Status: OK CheckDir: CONSTANd.Rcheck Warnings: 0