Package: CONSTANd Version: 1.14.0 Command: /home/biocbuild/R/R/bin/R CMD build --keep-empty-dirs --no-resave-data CONSTANd StartedAt: 2025-02-10 22:38:13 -0000 (Mon, 10 Feb 2025) EndedAt: 2025-02-10 22:38:26 -0000 (Mon, 10 Feb 2025) EllapsedTime: 13.0 seconds RetCode: 0 Status: OK PackageFile: CONSTANd_1.14.0.tar.gz PackageFileSize: 1.436 MiB