Package: COSNet Version: 1.40.0 Command: rm -rf COSNet.buildbin-libdir && mkdir COSNet.buildbin-libdir && /Users/biocbuild/BBS/utils/build-universal.sh COSNet_1.40.0.tar.gz /Library/Frameworks/R.framework/Resources/bin/R COSNet.buildbin-libdir StartedAt: 2025-02-05 15:23:22 -0500 (Wed, 05 Feb 2025) EndedAt: 2025-02-05 15:23:28 -0500 (Wed, 05 Feb 2025) EllapsedTime: 5.6 seconds RetCode: 0 Status: OK PackageFile: COSNet_1.40.0.tgz PackageFileSize: 559.5 KiB