Package: COSNet Version: 1.40.0 Command: /Library/Frameworks/R.framework/Resources/bin/R CMD build --keep-empty-dirs --no-resave-data COSNet StartedAt: 2025-02-10 21:38:52 -0500 (Mon, 10 Feb 2025) EndedAt: 2025-02-10 21:40:57 -0500 (Mon, 10 Feb 2025) EllapsedTime: 125.4 seconds RetCode: 0 Status: OK PackageFile: COSNet_1.40.0.tar.gz PackageFileSize: 519.9 KiB