Package: COSNet Version: 1.40.0 Command: /Library/Frameworks/R.framework/Resources/bin/R CMD check --install=check:COSNet.install-out.txt --library=/Library/Frameworks/R.framework/Resources/library --no-vignettes --timings COSNet_1.40.0.tar.gz StartedAt: 2025-02-04 16:04:32 -0500 (Tue, 04 Feb 2025) EndedAt: 2025-02-04 16:05:11 -0500 (Tue, 04 Feb 2025) EllapsedTime: 39.2 seconds RetCode: 0 Status: WARNINGS CheckDir: COSNet.Rcheck Warnings: 1