Package: COSNet Version: 1.40.0 Command: /Library/Frameworks/R.framework/Resources/bin/R CMD build --keep-empty-dirs --no-resave-data COSNet StartedAt: 2025-02-03 18:08:18 -0500 (Mon, 03 Feb 2025) EndedAt: 2025-02-03 18:11:35 -0500 (Mon, 03 Feb 2025) EllapsedTime: 196.8 seconds RetCode: 0 Status: OK PackageFile: COSNet_1.40.0.tar.gz PackageFileSize: 520 KiB