Package: COSNet Version: 1.40.0 Command: /Library/Frameworks/R.framework/Resources/bin/R CMD INSTALL COSNet StartedAt: 2025-02-03 15:15:09 -0500 (Mon, 03 Feb 2025) EndedAt: 2025-02-03 15:15:31 -0500 (Mon, 03 Feb 2025) EllapsedTime: 22.2 seconds RetCode: 0 Status: OK