Package: COSNet Version: 1.40.0 Command: chmod a+r COSNet -R && F:\biocbuild\bbs-3.20-bioc\R\bin\R.exe CMD build --keep-empty-dirs --no-resave-data COSNet StartedAt: 2025-02-03 18:22:43 -0500 (Mon, 03 Feb 2025) EndedAt: 2025-02-03 18:25:39 -0500 (Mon, 03 Feb 2025) EllapsedTime: 175.9 seconds RetCode: 0 Status: OK PackageFile: COSNet_1.40.0.tar.gz PackageFileSize: 285.5 KiB