Package: COSNet Version: 1.40.0 Command: /home/biocbuild/R/R/bin/R CMD build --keep-empty-dirs --no-resave-data COSNet StartedAt: 2025-02-03 22:51:39 -0000 (Mon, 03 Feb 2025) EndedAt: 2025-02-03 23:07:42 -0000 (Mon, 03 Feb 2025) EllapsedTime: 963.4 seconds RetCode: 0 Status: OK PackageFile: COSNet_1.40.0.tar.gz PackageFileSize: 503 KiB