Package: COSNet Version: 1.40.0 Command: /home/biocbuild/R/R/bin/R CMD check --install=check:COSNet.install-out.txt --library=/home/biocbuild/R/R/site-library --no-vignettes --timings COSNet_1.40.0.tar.gz StartedAt: 2025-02-04 05:57:45 -0000 (Tue, 04 Feb 2025) EndedAt: 2025-02-04 05:58:20 -0000 (Tue, 04 Feb 2025) EllapsedTime: 35.0 seconds RetCode: 0 Status: WARNINGS CheckDir: COSNet.Rcheck Warnings: 1