Package: CRISPRball Version: 1.2.0 Command: /Library/Frameworks/R.framework/Resources/bin/R CMD build --keep-empty-dirs --no-resave-data CRISPRball StartedAt: 2025-02-03 21:32:08 -0500 (Mon, 03 Feb 2025) EndedAt: 2025-02-03 21:33:12 -0500 (Mon, 03 Feb 2025) EllapsedTime: 64.3 seconds RetCode: 0 Status: OK PackageFile: CRISPRball_1.2.0.tar.gz PackageFileSize: 2.614 MiB