Package: CRISPRball Version: 1.2.0 Command: /home/biocbuild/R/R/bin/R CMD build --keep-empty-dirs --no-resave-data CRISPRball StartedAt: 2024-11-20 00:00:21 -0000 (Wed, 20 Nov 2024) EndedAt: 2024-11-20 00:01:32 -0000 (Wed, 20 Nov 2024) EllapsedTime: 71.1 seconds RetCode: 0 Status: OK PackageFile: CRISPRball_1.2.0.tar.gz PackageFileSize: 2.68 MiB