Package: CRISPRball Version: 1.2.0 Command: /Library/Frameworks/R.framework/Resources/bin/R CMD build --keep-empty-dirs --no-resave-data CRISPRball StartedAt: 2025-02-03 18:09:49 -0500 (Mon, 03 Feb 2025) EndedAt: 2025-02-03 18:11:45 -0500 (Mon, 03 Feb 2025) EllapsedTime: 116.1 seconds RetCode: 0 Status: OK PackageFile: CRISPRball_1.2.0.tar.gz PackageFileSize: 2.614 MiB