Package: CRISPRball Version: 1.2.0 Command: /Library/Frameworks/R.framework/Resources/bin/R CMD INSTALL CRISPRball StartedAt: 2025-02-10 16:28:25 -0500 (Mon, 10 Feb 2025) EndedAt: 2025-02-10 16:30:04 -0500 (Mon, 10 Feb 2025) EllapsedTime: 99.0 seconds RetCode: 0 Status: OK