Package: CRISPRball Version: 1.2.0 Command: /home/biocbuild/bbs-3.20-bioc/R/bin/R CMD check --install=check:CRISPRball.install-out.txt --library=/home/biocbuild/bbs-3.20-bioc/R/site-library --timings CRISPRball_1.2.0.tar.gz StartedAt: 2025-02-03 21:21:02 -0500 (Mon, 03 Feb 2025) EndedAt: 2025-02-03 21:27:06 -0500 (Mon, 03 Feb 2025) EllapsedTime: 364.3 seconds RetCode: 0 Status: OK CheckDir: CRISPRball.Rcheck Warnings: 0