Package: CRISPRball Version: 1.2.0 Command: /home/biocbuild/R/R/bin/R CMD check --install=check:CRISPRball.install-out.txt --library=/home/biocbuild/R/R/site-library --no-vignettes --timings CRISPRball_1.2.0.tar.gz StartedAt: 2025-02-04 05:59:37 -0000 (Tue, 04 Feb 2025) EndedAt: 2025-02-04 06:07:17 -0000 (Tue, 04 Feb 2025) EllapsedTime: 459.4 seconds RetCode: 0 Status: OK CheckDir: CRISPRball.Rcheck Warnings: 0