Package: CRISPRball Version: 1.2.0 Command: /home/biocbuild/R/R/bin/R CMD INSTALL CRISPRball StartedAt: 2025-02-03 21:16:25 -0000 (Mon, 03 Feb 2025) EndedAt: 2025-02-03 21:17:25 -0000 (Mon, 03 Feb 2025) EllapsedTime: 60.0 seconds RetCode: 0 Status: OK