Package: CRISPRseek Version: 1.46.0 Command: rm -rf CRISPRseek.buildbin-libdir && mkdir CRISPRseek.buildbin-libdir && /Users/biocbuild/BBS/utils/build-universal.sh CRISPRseek_1.46.0.tar.gz /Library/Frameworks/R.framework/Resources/bin/R CRISPRseek.buildbin-libdir StartedAt: 2025-02-05 15:25:08 -0500 (Wed, 05 Feb 2025) EndedAt: 2025-02-05 15:26:00 -0500 (Wed, 05 Feb 2025) EllapsedTime: 52.3 seconds RetCode: 0 Status: OK PackageFile: CRISPRseek_1.46.0.tgz PackageFileSize: 11 MiB