Package: CRISPRseek Version: 1.46.0 Command: /Library/Frameworks/R.framework/Resources/bin/R CMD build --keep-empty-dirs --no-resave-data CRISPRseek StartedAt: 2025-01-30 21:41:59 -0500 (Thu, 30 Jan 2025) EndedAt: 2025-01-30 21:46:01 -0500 (Thu, 30 Jan 2025) EllapsedTime: 241.6 seconds RetCode: 0 Status: OK PackageFile: CRISPRseek_1.46.0.tar.gz PackageFileSize: 10.74 MiB