Package: CRISPRseek Version: 1.46.0 Command: /home/biocbuild/R/R/bin/R CMD INSTALL CRISPRseek StartedAt: 2024-11-19 20:49:50 -0000 (Tue, 19 Nov 2024) EndedAt: 2024-11-19 20:50:47 -0000 (Tue, 19 Nov 2024) EllapsedTime: 57.2 seconds RetCode: 0 Status: OK