Package: CRISPRseek Version: 1.46.0 Command: /Library/Frameworks/R.framework/Resources/bin/R CMD build --keep-empty-dirs --no-resave-data CRISPRseek StartedAt: 2025-01-30 18:16:21 -0500 (Thu, 30 Jan 2025) EndedAt: 2025-01-30 18:22:22 -0500 (Thu, 30 Jan 2025) EllapsedTime: 360.7 seconds RetCode: 0 Status: OK PackageFile: CRISPRseek_1.46.0.tar.gz PackageFileSize: 10.74 MiB