Package: CRISPRseek Version: 1.46.0 Command: /Library/Frameworks/R.framework/Resources/bin/R CMD check --install=check:CRISPRseek.install-out.txt --library=/Library/Frameworks/R.framework/Resources/library --no-vignettes --timings CRISPRseek_1.46.0.tar.gz StartedAt: 2025-01-31 02:15:29 -0500 (Fri, 31 Jan 2025) EndedAt: 2025-01-31 02:55:30 -0500 (Fri, 31 Jan 2025) EllapsedTime: 2401.0 seconds RetCode: None Status: TIMEOUT CheckDir: CRISPRseek.Rcheck Warnings: NA