Package: CRISPRseek Version: 1.46.0 Command: /home/biocbuild/bbs-3.20-bioc/R/bin/R CMD check --install=check:CRISPRseek.install-out.txt --library=/home/biocbuild/bbs-3.20-bioc/R/site-library --timings CRISPRseek_1.46.0.tar.gz StartedAt: 2025-02-03 21:22:42 -0500 (Mon, 03 Feb 2025) EndedAt: 2025-02-03 21:52:04 -0500 (Mon, 03 Feb 2025) EllapsedTime: 1762.5 seconds RetCode: 0 Status: OK CheckDir: CRISPRseek.Rcheck Warnings: 0